BEGIN:VCALENDAR
VERSION:2.0
PRODID:-//Library Market//iCal Export//EN
BEGIN:VEVENT
SUMMARY:Floral Wooden Coasters
UID:2816
DTSTAMP:20260422T024600Z
DTSTART:20260504T230000Z
DTEND:20260505T000000Z
LOCATION:19 John Street, Amityville, NY 11701, United States
ROOM: Community Room
DESCRIPTION:Come to the library and make a beautiful wood slice floral coa
 ster with Tout Ruban.
URL:https://www.amityvillepubliclibrary.org/event/floral-wooden-coasters-2
 816
END:VEVENT
END:VCALENDAR
