BEGIN:VCALENDAR
VERSION:2.0
PRODID:-//Library Market//iCal Export//EN
BEGIN:VEVENT
SUMMARY:Chickpea Curry with Geetu (In person)
UID:5665
DTSTAMP:20260422T022100Z
DTSTART:20260516T183000Z
DTEND:20260516T193000Z
LOCATION:19 John Street, Amityville, NY 11701, United States
ROOM: Community Room
DESCRIPTION:Come enjoy a flavorful chickpea curry simmered in  aromatic I
 ndian spices, a savory onion-tomato base, coconut milk, and fresh herbs.
URL:https://www.amityvillepubliclibrary.org/event/geetu-5665
END:VEVENT
END:VCALENDAR
