BEGIN:VCALENDAR
VERSION:2.0
PRODID:-//Library Market//iCal Export//EN
BEGIN:VEVENT
SUMMARY:Mocktails with Thems the Breaks
UID:5802
DTSTAMP:20260422T004800Z
DTSTART:20260528T230000Z
DTEND:20260529T010000Z
LOCATION:19 John Street, Amityville, NY 11701, United States
ROOM: Community Room
DESCRIPTION:Each participant will receive handouts on the different types 
 of glasses that are used to make cocktails, recipes for 4 Mocktails (Pina 
 Colada, Strawberry Daiquiri, and 2 seasonal drinks. You will learn rimming
  techniques, accompaniments are discussed throughout the presentation. The
 re will be a tasting of all 4 drinks!
URL:https://www.amityvillepubliclibrary.org/event/mocktails-thems-breaks-5
 802
END:VEVENT
END:VCALENDAR
