BEGIN:VCALENDAR
VERSION:2.0
PRODID:-//Library Market//iCal Export//EN
BEGIN:VEVENT
SUMMARY:Estate Planning with Katherine Rose
UID:6044
DTSTAMP:20260422T022100Z
DTSTART:20260511T213000Z
DTEND:20260511T230000Z
LOCATION:19 John Street, Amityville, NY 11701, United States
ROOM: Community Room
DESCRIPTION:Join attorney Kathleen Rose from the Law Firm of Kathleen M. R
 ose, PLLC.  for this seminar on creating wills, trusts, health care proxi
 es, powers of attorney, avoiding probate, plus so much more. Kathleen will
  also go over Medicaid planning for long-term care, creating trusts and ha
 ndling estate administration. Please bring any questions you have regardin
 g any area of estate planning.  
URL:https://www.amityvillepubliclibrary.org/event/estate-planning-katherin
 e-rose-6044
END:VEVENT
END:VCALENDAR
