BEGIN:VCALENDAR
VERSION:2.0
PRODID:-//Library Market//iCal Export//EN
BEGIN:VEVENT
SUMMARY:Shell Frame with Anna Chan
UID:6045
DTSTAMP:20260422T004800Z
DTSTART:20260603T220000Z
DTEND:20260603T230000Z
LOCATION:19 John Street, Amityville, NY 11701, United States
ROOM: Main Floor
DESCRIPTION:Create a beautiful sea shell frame to celebrate summer.Fee: $5
 .00 credit card check, cash or money order made payable to the Amityville 
 Public Library is due at registration.
URL:https://www.amityvillepubliclibrary.org/event/shell-frame-anna-chan-60
 45
END:VEVENT
END:VCALENDAR
