BEGIN:VCALENDAR
VERSION:2.0
PRODID:-//Library Market//iCal Export//EN
BEGIN:VEVENT
SUMMARY:Rustic Charm: Handmade Farmhouse Fabric Flags with Tout Ruban (In 
 person)
UID:6046
DTSTAMP:20260422T014400Z
DTSTART:20260622T223000Z
DTEND:20260622T233000Z
LOCATION:19 John Street, Amityville, NY 11701, United States
ROOM: Community Room
DESCRIPTION:Bring a touch of vintage-inspired warmth to your home with our
  Farmhouse Fabric Flag Workshop. These whimsical, hand-crafted flags are t
 he perfect accent for tiered trays, mantel displays, or tucked into a favo
 rite floral arrangement.Fee: $5.00 credit card check, cash or money order 
 made payable to the Amityville Public Library is due at registration.
URL:https://www.amityvillepubliclibrary.org/event/patriotic-flag-christin-
 6046
END:VEVENT
END:VCALENDAR
