BEGIN:VCALENDAR
VERSION:2.0
PRODID:-//Library Market//iCal Export//EN
BEGIN:VEVENT
SUMMARY:How To Maximize Your Social Security Benefits in Retirement
UID:6908
DTSTAMP:20260422T035400Z
DTSTART:20261019T223000Z
DTEND:20261020T000000Z
LOCATION:19 John Street, Amityville, NY 11701, United States
ROOM: Community Room
DESCRIPTION:Join Christian LaPeter for this interactive and educational se
 minar to find out how you may maximize your social security benefits in re
 tirement.
URL:https://www.amityvillepubliclibrary.org/event/how-maximize-your-social
 -security-benefits-retirement-6908
END:VEVENT
END:VCALENDAR
