BEGIN:VCALENDAR
VERSION:2.0
PRODID:-//Library Market//iCal Export//EN
BEGIN:VEVENT
SUMMARY:Stars and Stitches Embroidery Workshop with Janice
UID:7007
DTSTAMP:20260422T022100Z
DTSTART:20260506T210000Z
DTEND:20260506T230000Z
LOCATION:19 John Street, Amityville, NY 11701, United States
ROOM: Community Room
DESCRIPTION:Celebrate America’s 250th birthday with needle and thread! I
 n this class you will learn the basic embroidery stitches while creating a
  timeless keepsake either a mini tote, handy pencil case or a classic tea 
 towel. Fee: $5.00 credit card check, cash or money order made payable to 
 the Amityville Public Library is due at registration.
URL:https://www.amityvillepubliclibrary.org/event/embroidered-patriotic-to
 te-janice-7007
END:VEVENT
END:VCALENDAR
