BEGIN:VCALENDAR
VERSION:2.0
PRODID:-//Library Market//iCal Export//EN
BEGIN:VEVENT
SUMMARY:Fruit Focaccia
UID:7111
DTSTAMP:20260422T014400Z
DTSTART:20260618T233000Z
DTEND:20260619T003000Z
LOCATION:19 John Street, Amityville, NY 11701, United States
ROOM: Community Room
DESCRIPTION:Learn how to make a pretty Summer Fruit Focaccia for your next
  party in this-hands on workshop! You&#039;ll leave class with a ready to 
 rise and bake focaccia and baking instructions. Enjoy samples during class
 . Bring an apron and small cutting board. 
URL:https://www.amityvillepubliclibrary.org/event/fruit-focaccia-7111
END:VEVENT
END:VCALENDAR
