BEGIN:VCALENDAR
VERSION:2.0
PRODID:-//Library Market//iCal Export//EN
BEGIN:VEVENT
SUMMARY:Yankee Doodle Dandy Lecture by Larry Wolff
UID:7264
DTSTAMP:20260422T024600Z
DTSTART:20260616T223000Z
DTEND:20260617T003000Z
LOCATION:19 John Street, Amityville, NY 11701, United States
ROOM: Community Room
DESCRIPTION:Celebrate the nation’s two hundred fiftieth birthday with a 
 Power Point lecture of the most rousing patriotic musical Hollywood ever p
 roduced! See this classic flag waver that stars James Cagney as George M. 
 Cohan, Broadway’s most popular and versatile star. Cohan had input into 
 the script and production and you will learn what HE thought of the final 
 product! Learn how Cagney came to star in this iconic film and watch him e
 xcel at his first love - dance. Filled with wonderful toe tapping songs, p
 atriotism, funny jokes, a sterling cast and Jimmy Cagney’s magnetism, th
 is film remains a captivating and absolute delight to this day! Selected f
 ilm highlights will be screened. Soundtrack music as well as a book, autog
 raph and memorabilia display are included with the original Long Island pr
 esentation. Don’t miss it!
URL:https://www.amityvillepubliclibrary.org/event/yankee-doodle-dandy-lect
 ure-larry-wolff-7264
END:VEVENT
END:VCALENDAR
