BEGIN:VCALENDAR
VERSION:2.0
PRODID:-//Library Market//iCal Export//EN
BEGIN:VEVENT
SUMMARY:Summer Bingo @ Anchor Coffee
UID:7265
DTSTAMP:20260422T015600Z
DTSTART:20260618T223000Z
DTEND:20260619T000000Z
LOCATION:Anchor Coffee, 215 Broadway, Amityville, NY 11701, United States
ROOM: Summer Bingo @ Anchor Coffee
DESCRIPTION:We’ll meet up at Anchor Coffee (215 Broadway, Amityville, NY
 ) to play some Bingo, everyone’s favorite game, and enjoy delicious drin
 ks and snacks from Anchor! Winners will receive awesome prizes!
URL:https://www.amityvillepubliclibrary.org/event/summer-bingo-anchor-coff
 ee-7265
END:VEVENT
END:VCALENDAR
