BEGIN:VCALENDAR
VERSION:2.0
PRODID:-//Library Market//iCal Export//EN
BEGIN:VEVENT
SUMMARY:Paranormal Romance With Local Author Amy Nova
UID:7266
DTSTAMP:20260422T015600Z
DTSTART:20260623T230000Z
DTEND:20260624T000000Z
LOCATION:19 John Street, Amityville, NY 11701, United States
ROOM: Community Room
DESCRIPTION:Join us for a special evening with local author Amy Nova, cele
 brated for her captivating paranormal romance novels. Her featured book, A
 ccidental Vampire, blends intrigue, passion, and supernatural twists that 
 will leave readers spellbound. The program will include an author presenta
 tion where Amy shares her journey, writing process, and insights into her 
 published works, a Q&amp;A session, and signed book giveaways. There&#039;
 s no better way to warm up during the winter than with a dose of paranorma
 l romance!
URL:https://www.amityvillepubliclibrary.org/event/paranormal-romance-local
 -author-amy-nova-7266
END:VEVENT
END:VCALENDAR
