BEGIN:VCALENDAR
VERSION:2.0
PRODID:-//Library Market//iCal Export//EN
BEGIN:VEVENT
SUMMARY:Qigong
UID:7283
DTSTAMP:20260422T022100Z
DTSTART:20260623T170000Z
DTEND:20260623T180000Z
LOCATION:VFW, 300 Broadway, Amityville, NY 11701, United States
ROOM: Qigong
DESCRIPTION:Relaxing and invigorating, Qigong (pronounced chee goong), is 
 an ancient, meditative movement practice that fosters physical and mental 
 health for coping with the stresses of daily life.  Qi is vital energy fo
 und in everything in the universe; Gong is a skill cultivated through stea
 dy practice. The benefits include increased balance, calmness, strength, s
 tamina, flexibility. Beginners are welcome! Wear loose clothing and soft s
 hoes.  Bring a mat (optional) and water. Waiver Required: https://amityv
 ille.librarycalendar.com/exercise-release
URL:https://www.amityvillepubliclibrary.org/event/qigong-7283
END:VEVENT
END:VCALENDAR
