BEGIN:VCALENDAR
VERSION:2.0
PRODID:-//Library Market//iCal Export//EN
BEGIN:VEVENT
SUMMARY:Zumba
UID:7296
DTSTAMP:20260422T011200Z
DTSTART:20260506T140000Z
DTEND:20260506T150000Z
LOCATION:VFW, 300 Broadway, Amityville, NY 11701, United States
ROOM: Zumba
DESCRIPTION:Come take the “work” out of workout with our new instructo
 r Danielle! We’ll mix low-intensity and high-intensity moves for an inte
 rval-style, calorie-burning dance fitness party!  Waiver Required: https
 ://amityville.librarycalendar.com/exercise-release
URL:https://www.amityvillepubliclibrary.org/event/zumba-7296
END:VEVENT
END:VCALENDAR
