BEGIN:VCALENDAR
VERSION:2.0
PRODID:-//Library Market//iCal Export//EN
BEGIN:VEVENT
SUMMARY:Chair Yoga
UID:7308
DTSTAMP:20260422T004800Z
DTSTART:20260603T173000Z
DTEND:20260603T183000Z
LOCATION:VFW, 300 Broadway, Amityville, NY 11701, United States
ROOM: Chair Yoga
DESCRIPTION:Chair yoga is a gentle form of yoga that is practiced sitting 
 on a chair or standing using a chair for support. In addition to doing sit
 ting and standing poses, the class will incorporate breathing techniques a
 nd ways of relaxation. Note: Please bring a mat with you to place under t
 he chair.  Waiver Required: https://amityville.librarycalendar.com/exerc
 ise-release
URL:https://www.amityvillepubliclibrary.org/event/chair-yoga-7308
END:VEVENT
END:VCALENDAR
