BEGIN:VCALENDAR
VERSION:2.0
PRODID:-//Library Market//iCal Export//EN
BEGIN:VEVENT
SUMMARY:Morning Intermediate Yoga
UID:7316
DTSTAMP:20260422T024600Z
DTSTART:20260611T140000Z
DTEND:20260611T150000Z
LOCATION:19 John Street, Amityville, NY 11701, United States
ROOM: Community Room
DESCRIPTION:Come join yoga teacher Jolanta as she leads you through a rela
 xing intermediate yoga class.  Waiver Required: https://amityville.libra
 rycalendar.com/exercise-release
URL:https://www.amityvillepubliclibrary.org/event/morning-intermediate-yog
 a-7316
END:VEVENT
END:VCALENDAR
