BEGIN:VCALENDAR
VERSION:2.0
PRODID:-//Library Market//iCal Export//EN
BEGIN:VEVENT
SUMMARY:Beginners Yoga
UID:7322
DTSTAMP:20260422T022100Z
DTSTART:20260528T213000Z
DTEND:20260528T223000Z
LOCATION:19 John Street, Amityville, NY 11701, United States
ROOM: Community Room
DESCRIPTION:This class incorporates Hatha Yoga poses at a slower, individu
 alized pace. Working specifically with breath, alignment cues, and hands-o
 n adjustments, the student will gain a greater understanding of the poses,
  find strength and confidence, and also cultivate the ability to quiet the
  mind.  Waiver required: https://amityville.librarycalendar.com/exercise
 -release
URL:https://www.amityvillepubliclibrary.org/event/beginners-yoga-7322
END:VEVENT
END:VCALENDAR
