BEGIN:VCALENDAR
VERSION:2.0
PRODID:-//Library Market//iCal Export//EN
BEGIN:VEVENT
SUMMARY:MS Office Tips and Tricks
UID:7335
DTSTAMP:20260422T024600Z
DTSTART:20260504T223000Z
DTEND:20260505T003000Z
LOCATION:19 John Street, Amityville, NY 11701, United States
ROOM: MS Office Tips and Tricks
DESCRIPTION:In this class, you will learn the most popular Office function
 s that will help improve your skills for Word, Excel and PowerPoint. Prere
 quisite: general knowledge of the programs and basic computer knowledge.
URL:https://www.amityvillepubliclibrary.org/event/ms-office-tips-and-trick
 s-7335
END:VEVENT
END:VCALENDAR
