BEGIN:VCALENDAR
VERSION:2.0
PRODID:-//Library Market//iCal Export//EN
BEGIN:VEVENT
SUMMARY:Small Beaded Flowers with Dianne (Take &amp; Make)
UID:7346
DTSTAMP:20260422T024600Z
DTSTART:20260612T130000Z
DTEND:20260612T140000Z
LOCATION:19 John Street, Amityville, NY 11701, United States
ROOM: Community Room
DESCRIPTION:This take &amp; make includes all you need to create at least 
 nine beaded flowers and stems. It also includes a trio of glass vases to p
 ut them in.
URL:https://www.amityvillepubliclibrary.org/event/small-beaded-flowers-dia
 nne-take-make-7346
END:VEVENT
END:VCALENDAR
