BEGIN:VCALENDAR
VERSION:2.0
PRODID:-//Library Market//iCal Export//EN
BEGIN:VEVENT
SUMMARY:Tech Time
UID:7347
DTSTAMP:20260422T022100Z
DTSTART:20260509T130000Z
DTEND:20260509T204500Z
LOCATION:19 John Street, Amityville, NY 11701, United States
ROOM: Main Floor
DESCRIPTION:Meet with our tech and have all technology related questions a
 nswered. Bring in your cell phone, laptop, iPhone, Android or any tech-rel
 ated questions for help navigating this ever-changing world of technology.
  Call or visit the Reference desk to schedule an appointment!
URL:https://www.amityvillepubliclibrary.org/event/tech-time-7347
END:VEVENT
END:VCALENDAR
