BEGIN:VCALENDAR
VERSION:2.0
PRODID:-//Library Market//iCal Export//EN
BEGIN:VEVENT
SUMMARY:Bereavement Group
UID:7358
DTSTAMP:20260422T035400Z
DTSTART:20260609T220000Z
DTEND:20260609T230000Z
LOCATION:19 John Street, Amityville, NY 11701, United States
ROOM: Bereavement Group
DESCRIPTION:The library is offering a five-week support group for individu
 als who have experienced the loss of a loved one and come together to shar
 e their feelings, experiences, and coping strategies in a supportive and u
 nderstanding environment. The group’s focus is on a specific loss of a s
 pouse, parent, sibling and friend. Facilitated by C. Rose, LCSW.
URL:https://www.amityvillepubliclibrary.org/event/bereavement-group-7358
END:VEVENT
END:VCALENDAR
