BEGIN:VCALENDAR
VERSION:2.0
PRODID:-//Library Market//iCal Export//EN
BEGIN:VEVENT
SUMMARY:Western Suffolk BOCES Home Study Programs (Main floor)
UID:7365
DTSTAMP:20260422T045400Z
DTSTART:20260604T210000Z
DTEND:20260605T010000Z
LOCATION:19 John Street, Amityville, NY 11701, United States
ROOM: Main Floor
DESCRIPTION:Want to earn your high school equivalency diploma or learn Eng
 lish as a Second Language? Studying at home has never been easier! Bi-week
 ly assignments are personalized by a certified instructor. Pick up work at
  convenient locations. Students must be 21 or over.
URL:https://www.amityvillepubliclibrary.org/event/western-suffolk-boces-ho
 me-study-programs-main-floor-7365
END:VEVENT
END:VCALENDAR
