BEGIN:VCALENDAR
VERSION:2.0
PRODID:-//Library Market//iCal Export//EN
BEGIN:VEVENT
SUMMARY:Introduction to ChatGPT and AI
UID:7366
DTSTAMP:20260422T022100Z
DTSTART:20260518T223000Z
DTEND:20260519T003000Z
LOCATION:19 John Street, Amityville, NY 11701, United States
ROOM: Introduction to ChatGPT and AI
DESCRIPTION:In this class, you will learn about the latest technology to h
 it mainstream; ChatGPT.  Students will learn about the newest AI, ChatGPT
  and how to navigate the site, the benefits and precautions using Chat, an
 d much more.  No prerequisites
URL:https://www.amityvillepubliclibrary.org/event/introduction-chatgpt-and
 -ai-7366
END:VEVENT
END:VCALENDAR
