BEGIN:VCALENDAR
VERSION:2.0
PRODID:-//Library Market//iCal Export//EN
BEGIN:VEVENT
SUMMARY:BYOBook Quiet Reading Club (Fortunate Hand Coffee House)
UID:7373
DTSTAMP:20260422T015600Z
DTSTART:20260623T223000Z
DTEND:20260624T000000Z
LOCATION:Fortunate Hand Coffee House and Tattoo Shop, 17 W Oak St., Amityv
 ille, NY 11701, United States
ROOM: BYOBook Quiet Reading Club (Fortunate Hand Coffee House)
DESCRIPTION:Do you love sipping coffee or tea while catching up on a good 
 book? If so, bring your own book and meet new friends or read quietly whil
 e enjoying a coffee/tea. No assigned reading. You can share your book or r
 ead to yourself-no pressure. Registration needed to ensure enough space. D
 rinks and treats will be provided by Fortunate Hand for BYOBook  readers.
  If you are unable to attend, please call to cancel as we have 15 spaces a
 nd treats prepared for this event.  
URL:https://www.amityvillepubliclibrary.org/event/byobook-quiet-reading-cl
 ub-fortunate-hand-coffee-house-7373
END:VEVENT
END:VCALENDAR
