BEGIN:VCALENDAR
VERSION:2.0
PRODID:-//Library Market//iCal Export//EN
BEGIN:VEVENT
SUMMARY:Medicare with Aja
UID:7374
DTSTAMP:20260422T045400Z
DTSTART:20260609T220000Z
DTEND:20260609T230000Z
LOCATION:19 John Street, Amityville, NY 11701, United States
ROOM: Medicare with Aja
DESCRIPTION:Medicare can be extremely confusing. Aja Link, a licensed, ind
 ependent Medicare agent will break it down in simple terms and explain you
 r different options for coverage. This seminar is purely educational and u
 nbiased. 
URL:https://www.amityvillepubliclibrary.org/event/medicare-aja-7374
END:VEVENT
END:VCALENDAR
