BEGIN:VCALENDAR
VERSION:2.0
PRODID:-//Library Market//iCal Export//EN
BEGIN:VEVENT
SUMMARY:Community Legal Help Project
UID:7386
DTSTAMP:20260422T011200Z
DTSTART:20260603T180000Z
DTEND:20260603T210000Z
LOCATION:19 John Street, Amityville, NY 11701, United States
ROOM: Community Legal Help Project
DESCRIPTION:The CLHP’s network of non-profit partners and pro bono volun
 teers provide legal information, referrals, and limited-scope representati
 on through a phone line and brief-in person consultations at public librar
 ies.  The areas of law that most of the attorneys’ consult at the libra
 ry are immigration, family, landlord-tenant, senior, criminal, and bankrup
 tcy law.  They will help patrons by providing legal or non-legal informat
 ion or a referral elsewhere. Call (631) 822-3272 for more information or 
 to schedule an appointment with an attorney.  Please note they will be cl
 osed for the month of August and will not be taking any phone calls, email
 s or appointments.
URL:https://www.amityvillepubliclibrary.org/event/community-legal-help-pro
 ject-7386
END:VEVENT
END:VCALENDAR
