BEGIN:VCALENDAR
VERSION:2.0
PRODID:-//Library Market//iCal Export//EN
BEGIN:VEVENT
SUMMARY:Turn the Tap - From Workplace Savings to Retirement Income
UID:7397
DTSTAMP:20260422T035400Z
DTSTART:20260720T230000Z
DTEND:20260721T000000Z
LOCATION:19 John Street, Amityville, NY 11701, United States
ROOM: Community Room
DESCRIPTION:In this educational seminar, Financial Planner &amp; Advisor M
 atthew Monk will break down the common options available for workplace ret
 irement accounts such as 401(k)s, 403(b)s, and 457 plans. Attendees will l
 earn how these plans work, what options are available as they move closer 
 to or into retirement, and how to transition these savings into long-term 
 retirement income. During this seminar, participants will gain a clearer u
 nderstanding of how taxes can impact retirement and other investment accou
 nts, how to avoid common pitfalls that can affect long-term outcomes, and 
 how these plans can fulfill a financial plan. The discussion will also exp
 lore practical ways to turn retirement accounts into sustainable income st
 reams, supporting long-term financial success, income planning, and flexib
 ility throughout retirement.
URL:https://www.amityvillepubliclibrary.org/event/turn-tap-workplace-savin
 gs-retirement-income-7397
END:VEVENT
END:VCALENDAR
