BEGIN:VCALENDAR
VERSION:2.0
PRODID:-//Library Market//iCal Export//EN
BEGIN:VEVENT
SUMMARY:PSEG (Main floor of library)
UID:7404
DTSTAMP:20260422T030000Z
DTSTART:20260505T140000Z
DTEND:20260505T170000Z
LOCATION:19 John Street, Amityville, NY 11701, United States
ROOM: Main Floor
DESCRIPTION:Please join your PSEG LI Consumer Advocate at the Amityville L
 ibrary to talk about bill discounts, medical programs, financial assistanc
 e and more.
URL:https://www.amityvillepubliclibrary.org/event/pseg-main-floor-library-
 7404
END:VEVENT
END:VCALENDAR
