BEGIN:VCALENDAR
VERSION:2.0
PRODID:-//Library Market//iCal Export//EN
BEGIN:VEVENT
SUMMARY:FCA’s Alzheimer’s and Dementia Caregiver Support Program
UID:7408
DTSTAMP:20260422T011200Z
DTSTART:20260528T180000Z
DTEND:20260528T190000Z
LOCATION:First Methodist Church, 25 Broadway, Amityville, NY 11701, United
  States
ROOM: FCA’s Alzheimer’s and Dementia Caregiver Support Program
DESCRIPTION:Nassau-Suffolk Hospital Council’s Medicaid Enrollment assis
 tants will be in the library to provide Medicaid enrollment assistance to 
 adults and children who are disabled or blind, and anyone over the age of 
 65. They can also answer any questions people may have regarding utilizing
  insurance, understanding their benefits, finding specialists, etc’.
URL:https://www.amityvillepubliclibrary.org/event/fcas-alzheimers-and-deme
 ntia-caregiver-support-program-7408
END:VEVENT
END:VCALENDAR
