BEGIN:VCALENDAR
VERSION:2.0
PRODID:-//Library Market//iCal Export//EN
BEGIN:VEVENT
SUMMARY:Nassau-Suffolk Hospital Council’s Medicaid Enrollment
UID:7416
DTSTAMP:20260422T045400Z
DTSTART:20260608T160000Z
DTEND:20260608T193000Z
LOCATION:19 John Street, Amityville, NY 11701, United States
ROOM: Nassau-Suffolk Hospital Council’s Medicaid Enrollment
DESCRIPTION:Nassau-Suffolk Hospital Council’s Medicaid Enrollment assis
 tants will be in the library to provide Medicaid enrollment assistance to 
 adults and children who are disabled or blind, and anyone over the age of 
 65. They can also answer any questions people may have regarding utilizing
  insurance, understanding their benefits, finding specialists, etc’.
URL:https://www.amityvillepubliclibrary.org/event/nassau-suffolk-hospital-
 councils-medicaid-enrollment-7416
END:VEVENT
END:VCALENDAR
