BEGIN:VCALENDAR
VERSION:2.0
PRODID:-//Library Market//iCal Export//EN
BEGIN:VEVENT
SUMMARY:Willing Hearts, Helpful Hands (Table main floor library)
UID:7417
DTSTAMP:20260422T015700Z
DTSTART:20260617T173000Z
DTEND:20260617T200000Z
LOCATION:19 John Street, Amityville, NY 11701, United States
ROOM: Main Floor
DESCRIPTION:Be A Hero and Volunteer! Did you know that there is a Loneline
 ss Epidemic? Our Surgeon General published a 75 page paper on this. Volunt
 eering is the antidote to loneliness and actually is beneficial to your im
 mune system!
URL:https://www.amityvillepubliclibrary.org/event/willing-hearts-helpful-h
 ands-table-main-floor-library-7417
END:VEVENT
END:VCALENDAR
